BEGIN:VCALENDAR
VERSION:2.0
PRODID:-//Library Services (ACG) - ECPv6.15.20//NONSGML v1.0//EN
CALSCALE:GREGORIAN
METHOD:PUBLISH
X-WR-CALNAME:Library Services (ACG)
X-ORIGINAL-URL:https://www.alfredlibrary.org
X-WR-CALDESC:Events for Library Services (ACG)
REFRESH-INTERVAL;VALUE=DURATION:PT1H
X-Robots-Tag:noindex
X-PUBLISHED-TTL:PT1H
BEGIN:VTIMEZONE
TZID:Australia/Melbourne
BEGIN:STANDARD
TZOFFSETFROM:+1100
TZOFFSETTO:+1000
TZNAME:AEST
DTSTART:20250405T160000
END:STANDARD
BEGIN:DAYLIGHT
TZOFFSETFROM:+1000
TZOFFSETTO:+1100
TZNAME:AEDT
DTSTART:20251004T160000
END:DAYLIGHT
BEGIN:STANDARD
TZOFFSETFROM:+1100
TZOFFSETTO:+1000
TZNAME:AEST
DTSTART:20260404T160000
END:STANDARD
BEGIN:DAYLIGHT
TZOFFSETFROM:+1000
TZOFFSETTO:+1100
TZNAME:AEDT
DTSTART:20261003T160000
END:DAYLIGHT
BEGIN:STANDARD
TZOFFSETFROM:+1100
TZOFFSETTO:+1000
TZNAME:AEST
DTSTART:20270403T160000
END:STANDARD
BEGIN:DAYLIGHT
TZOFFSETFROM:+1000
TZOFFSETTO:+1100
TZNAME:AEDT
DTSTART:20271002T160000
END:DAYLIGHT
END:VTIMEZONE
BEGIN:VEVENT
DTSTART;TZID=Australia/Melbourne:20260424T133000
DTEND;TZID=Australia/Melbourne:20260424T143000
DTSTAMP:20260424T083927
CREATED:20260401T224729Z
LAST-MODIFIED:20260422T034204Z
UID:10000745-1777037400-1777041000@www.alfredlibrary.org
SUMMARY:COCHRANE LIBRARY
DESCRIPTION:Learn the basics of searching the Cochrane Library via the Wiley software platform.\nDiscover the CDSR and CENTRAL databases\n\nAudience : Alfred Hospital\, Caulfield Hospital\, Sandringham Hospital\, Burnet Institute; and Latrobe & Monash staff & students based @ Alfred Health campus \nA zoom link will be emailed shortly before the class
URL:https://www.alfredlibrary.org/event/cochrane-library-13/
LOCATION:Zoom\, Australia
CATEGORIES:Online
ATTACH;FMTTYPE=image/png:https://www.alfredlibrary.org/wp-content/uploads/2021/01/Cochrane_Library_logo.png
ORGANIZER;CN="Lorena Romero":MAILTO:library@alfred.org.au
END:VEVENT
END:VCALENDAR