BEGIN:VCALENDAR
VERSION:2.0
PRODID:-//Library Services (ACG) - ECPv6.15.20//NONSGML v1.0//EN
CALSCALE:GREGORIAN
METHOD:PUBLISH
X-WR-CALNAME:Library Services (ACG)
X-ORIGINAL-URL:https://www.alfredlibrary.org
X-WR-CALDESC:Events for Library Services (ACG)
REFRESH-INTERVAL;VALUE=DURATION:PT1H
X-Robots-Tag:noindex
X-PUBLISHED-TTL:PT1H
BEGIN:VTIMEZONE
TZID:Australia/Melbourne
BEGIN:STANDARD
TZOFFSETFROM:+1100
TZOFFSETTO:+1000
TZNAME:AEST
DTSTART:20200404T160000
END:STANDARD
BEGIN:DAYLIGHT
TZOFFSETFROM:+1000
TZOFFSETTO:+1100
TZNAME:AEDT
DTSTART:20201003T160000
END:DAYLIGHT
BEGIN:STANDARD
TZOFFSETFROM:+1100
TZOFFSETTO:+1000
TZNAME:AEST
DTSTART:20210403T160000
END:STANDARD
BEGIN:DAYLIGHT
TZOFFSETFROM:+1000
TZOFFSETTO:+1100
TZNAME:AEDT
DTSTART:20211002T160000
END:DAYLIGHT
BEGIN:STANDARD
TZOFFSETFROM:+1100
TZOFFSETTO:+1000
TZNAME:AEST
DTSTART:20220402T160000
END:STANDARD
BEGIN:DAYLIGHT
TZOFFSETFROM:+1000
TZOFFSETTO:+1100
TZNAME:AEDT
DTSTART:20221001T160000
END:DAYLIGHT
BEGIN:STANDARD
TZOFFSETFROM:+1100
TZOFFSETTO:+1000
TZNAME:AEST
DTSTART:20230401T160000
END:STANDARD
BEGIN:DAYLIGHT
TZOFFSETFROM:+1000
TZOFFSETTO:+1100
TZNAME:AEDT
DTSTART:20230930T160000
END:DAYLIGHT
BEGIN:STANDARD
TZOFFSETFROM:+1100
TZOFFSETTO:+1000
TZNAME:AEST
DTSTART:20240406T160000
END:STANDARD
BEGIN:DAYLIGHT
TZOFFSETFROM:+1000
TZOFFSETTO:+1100
TZNAME:AEDT
DTSTART:20241005T160000
END:DAYLIGHT
BEGIN:STANDARD
TZOFFSETFROM:+1100
TZOFFSETTO:+1000
TZNAME:AEST
DTSTART:20250405T160000
END:STANDARD
BEGIN:DAYLIGHT
TZOFFSETFROM:+1000
TZOFFSETTO:+1100
TZNAME:AEDT
DTSTART:20251004T160000
END:DAYLIGHT
BEGIN:STANDARD
TZOFFSETFROM:+1100
TZOFFSETTO:+1000
TZNAME:AEST
DTSTART:20260404T160000
END:STANDARD
BEGIN:DAYLIGHT
TZOFFSETFROM:+1000
TZOFFSETTO:+1100
TZNAME:AEDT
DTSTART:20261003T160000
END:DAYLIGHT
END:VTIMEZONE
BEGIN:VEVENT
DTSTART;TZID=Australia/Melbourne:20250619T100000
DTEND;TZID=Australia/Melbourne:20250619T110000
DTSTAMP:20260425T075928
CREATED:20250507T022320Z
LAST-MODIFIED:20250507T024715Z
UID:10000630-1750327200-1750330800@www.alfredlibrary.org
SUMMARY:BMJ Best Practice & Case Reports Training
DESCRIPTION:Expert reps from BMJ Publishing are providing a short training session on BMJ Best Practice & BMJ Case Reports.  \nAll hospital staff are welcome to come and learn more about these stand-out resources.
URL:https://www.alfredlibrary.org/event/bmj-best-practice-case-reports-training/
LOCATION:Terraces\, Innovation Hub\, Alfred Hospital\, Australia
CATEGORIES:Face-to-face class
ATTACH;FMTTYPE=image/jpeg:https://www.alfredlibrary.org/wp-content/uploads/2025/05/BestPractice.jpg
ORGANIZER;CN="Adam Clark":MAILTO:library@alfred.org.au
END:VEVENT
BEGIN:VEVENT
DTSTART;TZID=Australia/Melbourne:20250415T150000
DTEND;TZID=Australia/Melbourne:20250415T160000
DTSTAMP:20260425T075928
CREATED:20250325T223827Z
LAST-MODIFIED:20250325T223827Z
UID:10000610-1744729200-1744732800@www.alfredlibrary.org
SUMMARY:Using the Hub Studio - Voice recording
DESCRIPTION:Do you need to record voice for videos\, podcasts or media productions? This 1-hour session includes: \n\na visit to the Innovation Hub’s Recording Studio\,\ndemonstration of the Rodecaster Pro audio recording panel and mics\,\ndemonstration of basic audio editing in Adobe Audition\n\nMeet at the Hub studio.  In-person class – only. \nThis session is open to Alfred Health and A+ Research Alliance partners. More sessions will be scheduled in the future.
URL:https://www.alfredlibrary.org/event/using-the-hub-studio-voice-recording-3/
LOCATION:Recording Studio\, Innovation Hub
CATEGORIES:Face-to-face class
ATTACH;FMTTYPE=image/jpeg:https://www.alfredlibrary.org/wp-content/uploads/2025/01/Events-studio.jpg
ORGANIZER;CN="Adam Clark":MAILTO:library@alfred.org.au
END:VEVENT
BEGIN:VEVENT
DTSTART;TZID=Australia/Melbourne:20250312T150000
DTEND;TZID=Australia/Melbourne:20250312T160000
DTSTAMP:20260425T075928
CREATED:20250214T013650Z
LAST-MODIFIED:20250214T013650Z
UID:10000599-1741791600-1741795200@www.alfredlibrary.org
SUMMARY:Using the Hub Studio - Voice recording
DESCRIPTION:Do you need to record voice for videos\, podcasts or media productions? This 1-hour session includes: \n\na visit to the Innovation Hub’s Recording Studio\,\ndemonstration of the Rodecaster Pro audio recording panel and mics\,\ndemonstration of basic audio editing in Adobe Audition\n\nThis session is open to Alfred Health and A+ Research Alliance partners. More sessions will be scheduled in the future.
URL:https://www.alfredlibrary.org/event/using-the-hub-studio-voice-recording-2/
LOCATION:Recording Studio\, Innovation Hub
CATEGORIES:Face-to-face class
ATTACH;FMTTYPE=image/jpeg:https://www.alfredlibrary.org/wp-content/uploads/2025/01/Events-studio.jpg
ORGANIZER;CN="Adam Clark":MAILTO:library@alfred.org.au
END:VEVENT
BEGIN:VEVENT
DTSTART;TZID=Australia/Melbourne:20250210T150000
DTEND;TZID=Australia/Melbourne:20250210T160000
DTSTAMP:20260425T075928
CREATED:20250124T020511Z
LAST-MODIFIED:20250130T214613Z
UID:10000591-1739199600-1739203200@www.alfredlibrary.org
SUMMARY:Using the Hub Studio - Voice recording
DESCRIPTION:Do you need to record voice for videos\, podcasts or media productions? This 1-hour session includes: \n\na visit to the Innovation Hub’s Recording Studio\,\ndemonstration of the Rodecaster Pro audio recording panel and mics\,\ndemonstration of basic audio editing in Adobe Audition\n\nThis session is open to Alfred Health and A+ Research Alliance partners.  More sessions will be scheduled in the future.
URL:https://www.alfredlibrary.org/event/using-the-hub-studio-voice-recording/
LOCATION:Recording Studio\, Innovation Hub
CATEGORIES:Face-to-face class
ATTACH;FMTTYPE=image/jpeg:https://www.alfredlibrary.org/wp-content/uploads/2025/01/Events-studio.jpg
ORGANIZER;CN="Adam Clark":MAILTO:library@alfred.org.au
END:VEVENT
BEGIN:VEVENT
DTSTART;TZID=Australia/Melbourne:20240617T133000
DTEND;TZID=Australia/Melbourne:20240617T150000
DTSTAMP:20260425T075928
CREATED:20240602T235641Z
LAST-MODIFIED:20240602T235641Z
UID:10000522-1718631000-1718636400@www.alfredlibrary.org
SUMMARY:Zotero Workshop
DESCRIPTION:Learn to use the popular free referencing software Zotero (zotero.org) today – the perfect alternative to EndNote. \nF2F workshop (NOT ON ZOOM) – please bring your own device if possible.
URL:https://www.alfredlibrary.org/event/zotero-workshop-2/
LOCATION:Innovation Office\, Innovation Hub
CATEGORIES:Face-to-face class
ATTACH;FMTTYPE=image/jpeg:https://www.alfredlibrary.org/wp-content/uploads/2024/04/zotero.jpg
ORGANIZER;CN="Adam Clark":MAILTO:library@alfred.org.au
END:VEVENT
BEGIN:VEVENT
DTSTART;TZID=Australia/Melbourne:20240520T103000
DTEND;TZID=Australia/Melbourne:20240520T120000
DTSTAMP:20260425T075928
CREATED:20240430T025431Z
LAST-MODIFIED:20240430T025431Z
UID:10000508-1716201000-1716206400@www.alfredlibrary.org
SUMMARY:Zotero Workshop
DESCRIPTION:Can’t afford the co$t of EndNote? – Then learn to use the popular free referencing software Zotero (zotero.org).  \nF2F workshop (NOT ON ZOOM) – please bring your own device if possible.
URL:https://www.alfredlibrary.org/event/zotero-workshop/
LOCATION:Crimson Mallee\, Innovation Hub\, Australia
CATEGORIES:Face-to-face class
ATTACH;FMTTYPE=image/jpeg:https://www.alfredlibrary.org/wp-content/uploads/2024/04/zotero.jpg
ORGANIZER;CN="Adam Clark":MAILTO:library@alfred.org.au
END:VEVENT
BEGIN:VEVENT
DTSTART;TZID=Australia/Melbourne:20240410T100000
DTEND;TZID=Australia/Melbourne:20240410T113000
DTSTAMP:20260425T075928
CREATED:20240313T000844Z
LAST-MODIFIED:20240313T000844Z
UID:10000487-1712743200-1712748600@www.alfredlibrary.org
SUMMARY:EndNote Workshop
DESCRIPTION:Learn the basics of EndNote referencing software.  Please bring your own device with EndNote 20 or 21 loaded.
URL:https://www.alfredlibrary.org/event/endnote-workshop/
LOCATION:Crimson Mallee\, Innovation Hub\, Australia
CATEGORIES:Face-to-face class
ATTACH;FMTTYPE=image/png:https://www.alfredlibrary.org/wp-content/uploads/2023/06/EndNote20.png
ORGANIZER;CN="Adam Clark":MAILTO:library@alfred.org.au
END:VEVENT
BEGIN:VEVENT
DTSTART;TZID=Australia/Melbourne:20230324T133000
DTEND;TZID=Australia/Melbourne:20230324T153000
DTSTAMP:20260425T075928
CREATED:20230302T054350Z
LAST-MODIFIED:20230302T054350Z
UID:10000347-1679664600-1679671800@www.alfredlibrary.org
SUMMARY:Advanced Searching Class
DESCRIPTION:PREREQUISITE: Prior attendance at OVID Medline class. \n\nLearn advanced search skills and handy tips for tricky or complex searches.\nLearn essential skills for creating systematic review searches\n\nAudience : Alfred Hospital\, Caulfield Hospital\, Sandringham Hospital\, Burnet Institute; and Latrobe & Monash staff & students based @ Alfred Health campus \nFace to Face class – Location: White Poplar Room – Innovation Hub at the Alfred
URL:https://www.alfredlibrary.org/event/advanced-searching-class-52/
LOCATION:White Poplar Room\, Innovation Hub\, Alfred Hospital\, Commerical Road\, Melbourne.\, VIC\, 3004\, Australia
CATEGORIES:Face-to-face class
ATTACH;FMTTYPE=image/png:https://www.alfredlibrary.org/wp-content/uploads/2020/08/Advanced.png
ORGANIZER;CN="Lorena Romero":MAILTO:library@alfred.org.au
END:VEVENT
BEGIN:VEVENT
DTSTART;TZID=Australia/Melbourne:20230316T120000
DTEND;TZID=Australia/Melbourne:20230316T131500
DTSTAMP:20260425T075928
CREATED:20230302T053300Z
LAST-MODIFIED:20230302T053300Z
UID:10000345-1678968000-1678972500@www.alfredlibrary.org
SUMMARY:MEDLINE CLASS
DESCRIPTION:Learn the basics of searching Medline via the OVID software platform.\nLearn how to use MeSH effectively and when/how to use text words\nLearn search tips that can also be used for Embase\, PsycInfo and Emcare databases\n\nAudience : Alfred Hospital\, Caulfield Hospital\, Sandringham Hospital\, Burnet Institute; and Latrobe & Monash staff & students based @ Alfred Health campus \nFace to Face class – Location: White Poplar Room – Innovation Hub at the Alfred
URL:https://www.alfredlibrary.org/event/medline-class-77/
LOCATION:White Poplar Room\, Innovation Hub\, Alfred Hospital\, Commerical Road\, Melbourne.\, VIC\, 3004\, Australia
CATEGORIES:Face-to-face class
ATTACH;FMTTYPE=image/jpeg:https://www.alfredlibrary.org/wp-content/uploads/2020/08/Ovid_MEDLINE.jpg
ORGANIZER;CN="Lorena Romero":MAILTO:library@alfred.org.au
END:VEVENT
BEGIN:VEVENT
DTSTART;TZID=Australia/Melbourne:20210713T110000
DTEND;TZID=Australia/Melbourne:20210713T123000
DTSTAMP:20260425T075928
CREATED:20210702T033236Z
LAST-MODIFIED:20210702T034706Z
UID:10000129-1626174000-1626179400@www.alfredlibrary.org
SUMMARY:Medline Class
DESCRIPTION:Learn the basics of searching Medline via the OVID software platform.\nLearn how to use MeSH effectively and when/how to use text words\nOVID software is also used for Embase/PsycInfo/Emcare databases\n\nAudience : Alfred Hospital\, Caulfield Hospital\, Sandringham Hospital\, Burnet Institute; and Latrobe & Monash staff & students based @ Alfred Health campus \nFace to Face class – may change to ZOOM pending COVID restrictions \nBYO laptop if possible
URL:https://www.alfredlibrary.org/event/medline-class-32/
LOCATION:Innovation Hub\, Alfred Hospital
CATEGORIES:Face-to-face class
ATTACH;FMTTYPE=image/jpeg:https://www.alfredlibrary.org/wp-content/uploads/2020/08/Ovid_MEDLINE.jpg
ORGANIZER;CN="Lorena Romero":MAILTO:library@alfred.org.au
END:VEVENT
BEGIN:VEVENT
DTSTART;TZID=Australia/Melbourne:20210625T140000
DTEND;TZID=Australia/Melbourne:20210625T160000
DTSTAMP:20260425T075928
CREATED:20210528T050928Z
LAST-MODIFIED:20210528T051326Z
UID:10000110-1624629600-1624636800@www.alfredlibrary.org
SUMMARY:Advanced Searching Class
DESCRIPTION:PREREQUISITE: Prior attendance at OVID Medline class. \n\nLearn advanced search skills and handy tips for tricky or complex searches.\nLearn essential skills for systematic review searching\n\nAudience : Alfred Health & Burnet; and Latrobe & Monash staff & students based @ Alfred Health campus \nFace to face class – may change to ZOOM pending COVID restrictions \nBYO laptop if possible
URL:https://www.alfredlibrary.org/event/advanced-searching-class-25/
LOCATION:Innovation Hub\, Alfred Hospital
CATEGORIES:Face-to-face class
ATTACH;FMTTYPE=image/png:https://www.alfredlibrary.org/wp-content/uploads/2020/08/Advanced.png
ORGANIZER;CN="Lorena Romero":MAILTO:library@alfred.org.au
END:VEVENT
BEGIN:VEVENT
DTSTART;TZID=Australia/Melbourne:20210625T103000
DTEND;TZID=Australia/Melbourne:20210625T123000
DTSTAMP:20260425T075928
CREATED:20210514T014511Z
LAST-MODIFIED:20210618T032736Z
UID:10000103-1624617000-1624624200@www.alfredlibrary.org
SUMMARY:EndNote X9 for MAC has been cancelled
DESCRIPTION:This training class has been cancelled. \nA video on using EndNote X9 for MAC can be found here.
URL:https://www.alfredlibrary.org/event/endnote-x9-for-mac/
LOCATION:White Poplar Room\, Innovation Hub\, Alfred Hospital\, Commerical Road\, Melbourne.\, VIC\, 3004\, Australia
CATEGORIES:Face-to-face class
ATTACH;FMTTYPE=image/jpeg:https://www.alfredlibrary.org/wp-content/uploads/2021/06/Cancelled-icon.jpg
ORGANIZER;CN="Adam Clark":MAILTO:library@alfred.org.au
END:VEVENT
BEGIN:VEVENT
DTSTART;TZID=Australia/Melbourne:20210617T140000
DTEND;TZID=Australia/Melbourne:20210617T153000
DTSTAMP:20260425T075928
CREATED:20210528T050033Z
LAST-MODIFIED:20210528T051436Z
UID:10000108-1623938400-1623943800@www.alfredlibrary.org
SUMMARY:Medline Class
DESCRIPTION:Learn the basics of searching Medline via the OVID software platform.\nLearn how to use MeSH effectively and when/how to use text words\nOVID software is also used for Embase/PsycInfo/Emcare databases\n\nAudience : Alfred Health & Burnet; and Latrobe & Monash staff & students based @ Alfred Health campus \nFace to Face class – may change to ZOOM pending COVID restrictions \nBYO laptop if possible
URL:https://www.alfredlibrary.org/event/medline-class-30/
LOCATION:Innovation Hub\, Alfred Hospital
CATEGORIES:Face-to-face class
ATTACH;FMTTYPE=image/jpeg:https://www.alfredlibrary.org/wp-content/uploads/2020/08/Ovid_MEDLINE.jpg
ORGANIZER;CN="Lorena Romero":MAILTO:library@alfred.org.au
END:VEVENT
BEGIN:VEVENT
DTSTART;TZID=Australia/Melbourne:20210611T140000
DTEND;TZID=Australia/Melbourne:20210611T150000
DTSTAMP:20260425T075928
CREATED:20210528T061423Z
LAST-MODIFIED:20210608T003219Z
UID:10000115-1623420000-1623423600@www.alfredlibrary.org
SUMMARY:E-Resources Class for Alfredhealth/Burnet staff - CANCELLED
DESCRIPTION:Find out how you can access online books and online journals from home or work. \nAudience: Staff at Alfredhealth/Burnet/Caulfield and Sandringham Hospitals. \nFace to Face class – cancelled.
URL:https://www.alfredlibrary.org/event/e-resources-class-for-alfredhealth-burnet-staff-2/
LOCATION:Innovation Hub\, Alfred Hospital
CATEGORIES:Face-to-face class
ATTACH;FMTTYPE=image/jpeg:https://www.alfredlibrary.org/wp-content/uploads/2021/06/Cancelled-icon.jpg
ORGANIZER;CN="Lucia Day":MAILTO:library@alfred.org.au
END:VEVENT
END:VCALENDAR