BEGIN:VCALENDAR
VERSION:2.0
PRODID:-//Library Services (ACG) - ECPv6.15.20//NONSGML v1.0//EN
CALSCALE:GREGORIAN
METHOD:PUBLISH
X-ORIGINAL-URL:https://www.alfredlibrary.org
X-WR-CALDESC:Events for Library Services (ACG)
REFRESH-INTERVAL;VALUE=DURATION:PT1H
X-Robots-Tag:noindex
X-PUBLISHED-TTL:PT1H
BEGIN:VTIMEZONE
TZID:Australia/Melbourne
BEGIN:STANDARD
TZOFFSETFROM:+1100
TZOFFSETTO:+1000
TZNAME:AEST
DTSTART:20230401T160000
END:STANDARD
BEGIN:DAYLIGHT
TZOFFSETFROM:+1000
TZOFFSETTO:+1100
TZNAME:AEDT
DTSTART:20230930T160000
END:DAYLIGHT
BEGIN:STANDARD
TZOFFSETFROM:+1100
TZOFFSETTO:+1000
TZNAME:AEST
DTSTART:20240406T160000
END:STANDARD
BEGIN:DAYLIGHT
TZOFFSETFROM:+1000
TZOFFSETTO:+1100
TZNAME:AEDT
DTSTART:20241005T160000
END:DAYLIGHT
BEGIN:STANDARD
TZOFFSETFROM:+1100
TZOFFSETTO:+1000
TZNAME:AEST
DTSTART:20250405T160000
END:STANDARD
BEGIN:DAYLIGHT
TZOFFSETFROM:+1000
TZOFFSETTO:+1100
TZNAME:AEDT
DTSTART:20251004T160000
END:DAYLIGHT
END:VTIMEZONE
BEGIN:VEVENT
DTSTART;TZID=Australia/Melbourne:20240606T133000
DTEND;TZID=Australia/Melbourne:20240606T143000
DTSTAMP:20260425T214557
CREATED:20240529T040747Z
LAST-MODIFIED:20240529T041550Z
UID:10000512-1717680600-1717684200@www.alfredlibrary.org
SUMMARY:E-Resources Class for Alfred Health/Burnet Staff
DESCRIPTION:Find out how you can access online books and online journals from home or work. \n\nTips on searching our Library Catalogue and understanding journal citations to help you find the article.\n\nAudience: Staff at Alfred Hospital\, Caulfield Hospital\, Sandringham Hospital\, Headspace\, CYMHS\, Burnet Institute. \nA zoom link will be emailed in the morning before the class \nNB: You must have an Alfred Health or Burnet login to access the library’s electronic resources.  \nFor other Monash Staff & students based at an Alfred Health campus- view our Monash E-Resources Video Series on YouTube.
URL:https://www.alfredlibrary.org/event/e-resources-class-for-alfred-health-burnet-staff-63/
LOCATION:Zoom\, Australia
CATEGORIES:Online
ATTACH;FMTTYPE=image/jpeg:https://www.alfredlibrary.org/wp-content/uploads/2020/08/Alfred.jpg
ORGANIZER;CN="Zahra Mohamed":MAILTO:library@alfred.org.au
END:VEVENT
BEGIN:VEVENT
DTSTART;TZID=Australia/Melbourne:20240612T110000
DTEND;TZID=Australia/Melbourne:20240612T120000
DTSTAMP:20260425T214557
CREATED:20240529T040925Z
LAST-MODIFIED:20240529T040925Z
UID:10000513-1718190000-1718193600@www.alfredlibrary.org
SUMMARY:E-Resources Class for Alfred Health/Burnet Staff
DESCRIPTION:Find out how you can access online books and online journals from home or work. \n\nTips on searching our Library Catalogue and understanding journal citations to help you find the article.\n\nAudience: Staff at Alfred Hospital\, Caulfield Hospital\, Sandringham Hospital\, Headspace\, CYMHS\, Burnet Institute. \nA zoom link will be emailed in the morning before the class \nNB: You must have an Alfred Health or Burnet login to access the library’s electronic resources.  \nFor other Monash Staff & students based at an Alfred Health campus- view our Monash E-Resources Video Series on YouTube.
URL:https://www.alfredlibrary.org/event/e-resources-class-for-alfred-health-burnet-staff-64/
LOCATION:Zoom\, Australia
CATEGORIES:Online
ATTACH;FMTTYPE=image/jpeg:https://www.alfredlibrary.org/wp-content/uploads/2020/08/Alfred.jpg
ORGANIZER;CN="Zahra Mohamed":MAILTO:library@alfred.org.au
END:VEVENT
BEGIN:VEVENT
DTSTART;TZID=Australia/Melbourne:20240613T113000
DTEND;TZID=Australia/Melbourne:20240613T123000
DTSTAMP:20260425T214557
CREATED:20240530T015442Z
LAST-MODIFIED:20240530T015442Z
UID:10000515-1718278200-1718281800@www.alfredlibrary.org
SUMMARY:Accessing Full Text Articles Class for Alfred Health and Burnet staff
DESCRIPTION:This class helps you learn tips in accessing the papers that you need for your Alfred Health or Burnet projects. \nYou may have the citations but not know how to find the full text articles using the Ian Potter Library resources. \nLearn what a DOI is and how to find online published articles. \nLearn how to set up your own etoc’s and alerts. \nAudience: Staff at Alfred Hospital\, Caulfield Hospital\, Sandringham Hospital\, Headspace\, CYMHS\, Burnet Institute. \nNB: You must have an Alfred or Burnet Login to access the library’s resources and attend this class. \nOnce your registration has been confirmed\, a zoom link will be emailed on the same day of the Class.
URL:https://www.alfredlibrary.org/event/accessing-full-text-articles-class-for-alfred-health-and-burnet-staff-4/
LOCATION:Zoom\, Australia
CATEGORIES:Online
ATTACH;FMTTYPE=image/png:https://www.alfredlibrary.org/wp-content/uploads/2022/05/access-full-text-class.png
ORGANIZER;CN="Lucia Day":MAILTO:library@alfred.org.au
END:VEVENT
BEGIN:VEVENT
DTSTART;TZID=Australia/Melbourne:20240614T110000
DTEND;TZID=Australia/Melbourne:20240614T120000
DTSTAMP:20260425T214557
CREATED:20240531T042425Z
LAST-MODIFIED:20240531T042425Z
UID:10000516-1718362800-1718366400@www.alfredlibrary.org
SUMMARY:MEDLINE CLASS
DESCRIPTION:Learn the basics of searching Medline via the OVID software platform.\nLearn how to use MeSH effectively and when/how to use text words\nLearn search tips that can also be used for Embase\, PsycInfo and Emcare databases\n\nAudience : Alfred Hospital\, Caulfield Hospital\, Sandringham Hospital\, Burnet Institute; and Latrobe & Monash staff & students based @ Alfred Health campus \nA zoom link will be emailed shortly before the class
URL:https://www.alfredlibrary.org/event/medline-class-105/
LOCATION:Zoom\, Australia
CATEGORIES:Online
ATTACH;FMTTYPE=image/jpeg:https://www.alfredlibrary.org/wp-content/uploads/2020/08/Ovid_MEDLINE.jpg
ORGANIZER;CN="Lorena Romero":MAILTO:library@alfred.org.au
END:VEVENT
BEGIN:VEVENT
DTSTART;TZID=Australia/Melbourne:20240617T110000
DTEND;TZID=Australia/Melbourne:20240617T120000
DTSTAMP:20260425T214557
CREATED:20240531T042917Z
LAST-MODIFIED:20240531T042917Z
UID:10000517-1718622000-1718625600@www.alfredlibrary.org
SUMMARY:Embase Class
DESCRIPTION:Learn the basics of searching Embase via the OVID software platform.\nLearn how to use EMTREE subjects effectively and when/how to use text words\nLearn search tips that can also be used for PsycInfo and Emcare databases\n\nAudience : Alfred Hospital\, Caulfield Hospital\, Sandringham Hospital\, Burnet Institute; and Latrobe & Monash staff & students based @ Alfred Health campus \nA zoom link will be emailed shortly before the class
URL:https://www.alfredlibrary.org/event/embase-class-21/
LOCATION:Zoom\, Australia
CATEGORIES:Online
ATTACH;FMTTYPE=image/jpeg:https://www.alfredlibrary.org/wp-content/uploads/2020/08/EMBASE_on_Ovid.jpg
ORGANIZER;CN="Lorena Romero":MAILTO:library@alfred.org.au
END:VEVENT
BEGIN:VEVENT
DTSTART;TZID=Australia/Melbourne:20240621T133000
DTEND;TZID=Australia/Melbourne:20240621T143000
DTSTAMP:20260425T214557
CREATED:20240531T043033Z
LAST-MODIFIED:20240531T043033Z
UID:10000518-1718976600-1718980200@www.alfredlibrary.org
SUMMARY:CINAHL CLASS
DESCRIPTION:Learn the basics of searching Cinahl via the Ebscohost software platform.\nLearn how to use Cinahl subject headings effectively and when/how to use text words\nLearn the tricks required for Ebsco software\n\nAudience : Alfred Hospital\, Caulfield Hospital\, Sandringham Hospital\, Burnet Institute; and Latrobe & Monash staff & students based @ Alfred Health campus \n\nA zoom link will be emailed shortly before the class\nPlease note you must have a university login to access Cinahl
URL:https://www.alfredlibrary.org/event/cinahl-class-44/
LOCATION:Zoom\, Australia
CATEGORIES:Online
ATTACH;FMTTYPE=image/png:https://www.alfredlibrary.org/wp-content/uploads/2020/08/Cinahl.png
ORGANIZER;CN="Lorena Romero":MAILTO:library@alfred.org.au
END:VEVENT
BEGIN:VEVENT
DTSTART;TZID=Australia/Melbourne:20240624T110000
DTEND;TZID=Australia/Melbourne:20240624T130000
DTSTAMP:20260425T214557
CREATED:20240531T043206Z
LAST-MODIFIED:20240531T043206Z
UID:10000519-1719226800-1719234000@www.alfredlibrary.org
SUMMARY:Advanced Searching Class
DESCRIPTION:PREREQUISITE: Prior attendance at OVID Medline or Embase class. \n\nLearn advanced search skills and handy tips for tricky or complex searches.\nLearn essential skills for creating systematic review searches\n\nAudience : Alfred Hospital\, Caulfield Hospital\, Sandringham Hospital\, Burnet Institute; and Latrobe & Monash staff & students based @ Alfred Health campus \nA zoom link will be emailed shortly before the class
URL:https://www.alfredlibrary.org/event/advanced-searching-class-73/
LOCATION:Zoom\, Australia
CATEGORIES:Online
ATTACH;FMTTYPE=image/png:https://www.alfredlibrary.org/wp-content/uploads/2020/08/Advanced.png
ORGANIZER;CN="Lorena Romero":MAILTO:library@alfred.org.au
END:VEVENT
BEGIN:VEVENT
DTSTART;TZID=Australia/Melbourne:20240625T133000
DTEND;TZID=Australia/Melbourne:20240625T143000
DTSTAMP:20260425T214557
CREATED:20240531T043305Z
LAST-MODIFIED:20240531T043305Z
UID:10000520-1719322200-1719325800@www.alfredlibrary.org
SUMMARY:COCHRANE
DESCRIPTION:Learn the basics of searching the Cochrane Library via the Wiley software platform.\nDiscover the CDSR and CENTRAL databases\n\nAudience : Alfred Hospital\, Caulfield Hospital\, Sandringham Hospital\, Burnet Institute; and Latrobe & Monash staff & students based @ Alfred Health campus \nA zoom link will be emailed shortly before the class
URL:https://www.alfredlibrary.org/event/cochrane-19/
LOCATION:Zoom\, Australia
CATEGORIES:Online
ATTACH;FMTTYPE=image/png:https://www.alfredlibrary.org/wp-content/uploads/2021/01/Cochrane_Library_logo.png
ORGANIZER;CN="Lorena Romero":MAILTO:library@alfred.org.au
END:VEVENT
BEGIN:VEVENT
DTSTART;TZID=Australia/Melbourne:20240628T110000
DTEND;TZID=Australia/Melbourne:20240628T120000
DTSTAMP:20260425T214557
CREATED:20240531T043419Z
LAST-MODIFIED:20240531T043419Z
UID:10000521-1719572400-1719576000@www.alfredlibrary.org
SUMMARY:SCOPUS & WEB OF SCIENCE
DESCRIPTION:Learn search tips for the Scopus and Web of Science databases\nLearn how to convert your Medline or Embase searches to the Scopus or Web of Science formats – for SR searches\n\nPrerequisite: searching experience in Medline or Embase or Cinahl \n\nPlease note you must have a university login to access Scopus or Web of Science\nA zoom link will be emailed shortly before the class
URL:https://www.alfredlibrary.org/event/scopus-web-of-science-21/
LOCATION:Zoom\, Australia
CATEGORIES:Online
ATTACH;FMTTYPE=image/jpeg:https://www.alfredlibrary.org/wp-content/uploads/2022/03/scopus-web-of-science.jpg
ORGANIZER;CN="Lorena Romero":MAILTO:library@alfred.org.au
END:VEVENT
END:VCALENDAR