BEGIN:VCALENDAR
VERSION:2.0
PRODID:-//Library Services (ACG) - ECPv6.15.20//NONSGML v1.0//EN
CALSCALE:GREGORIAN
METHOD:PUBLISH
X-WR-CALNAME:Library Services (ACG)
X-ORIGINAL-URL:https://www.alfredlibrary.org
X-WR-CALDESC:Events for Library Services (ACG)
REFRESH-INTERVAL;VALUE=DURATION:PT1H
X-Robots-Tag:noindex
X-PUBLISHED-TTL:PT1H
BEGIN:VTIMEZONE
TZID:Australia/Melbourne
BEGIN:STANDARD
TZOFFSETFROM:+1100
TZOFFSETTO:+1000
TZNAME:AEST
DTSTART:20230401T160000
END:STANDARD
BEGIN:DAYLIGHT
TZOFFSETFROM:+1000
TZOFFSETTO:+1100
TZNAME:AEDT
DTSTART:20230930T160000
END:DAYLIGHT
BEGIN:STANDARD
TZOFFSETFROM:+1100
TZOFFSETTO:+1000
TZNAME:AEST
DTSTART:20240406T160000
END:STANDARD
BEGIN:DAYLIGHT
TZOFFSETFROM:+1000
TZOFFSETTO:+1100
TZNAME:AEDT
DTSTART:20241005T160000
END:DAYLIGHT
BEGIN:STANDARD
TZOFFSETFROM:+1100
TZOFFSETTO:+1000
TZNAME:AEST
DTSTART:20250405T160000
END:STANDARD
BEGIN:DAYLIGHT
TZOFFSETFROM:+1000
TZOFFSETTO:+1100
TZNAME:AEDT
DTSTART:20251004T160000
END:DAYLIGHT
END:VTIMEZONE
BEGIN:VEVENT
DTSTART;TZID=Australia/Melbourne:20241203T133000
DTEND;TZID=Australia/Melbourne:20241203T143000
DTSTAMP:20260425T112623
CREATED:20241126T221015Z
LAST-MODIFIED:20241126T221015Z
UID:10000584-1733232600-1733236200@www.alfredlibrary.org
SUMMARY:E-Resources Class for Alfred Health/Burnet Staff
DESCRIPTION:Find out how you can access online books and online journals from home or work. \n\nTips on searching our Library Catalogue and understanding journal citations to help you find the article.\n\nAudience: Staff at Alfred Hospital\, Caulfield Hospital\, Sandringham Hospital\, Headspace\, CYMHS\, Burnet Institute. \nA zoom link will be emailed in the morning before the class \nNB: You must have an Alfred Health or Burnet login to access the library’s electronic resources.  \nFor other Monash Staff & students based at an Alfred Health campus- view our Monash E-Resources Video Series on YouTube.
URL:https://www.alfredlibrary.org/event/e-resources-class-for-alfred-health-burnet-staff-75/
LOCATION:Zoom\, Australia
CATEGORIES:Online
ATTACH;FMTTYPE=image/jpeg:https://www.alfredlibrary.org/wp-content/uploads/2020/08/Alfred.jpg
ORGANIZER;CN="Zahra Mohamed":MAILTO:library@alfred.org.au
END:VEVENT
BEGIN:VEVENT
DTSTART;TZID=Australia/Melbourne:20241205T133000
DTEND;TZID=Australia/Melbourne:20241205T143000
DTSTAMP:20260425T112623
CREATED:20241127T225036Z
LAST-MODIFIED:20241127T225036Z
UID:10000586-1733405400-1733409000@www.alfredlibrary.org
SUMMARY:MEDLINE CLASS
DESCRIPTION:Learn the basics of searching Medline via the OVID software platform.\nLearn how to use MeSH effectively and when/how to use text words\nLearn search tips that can also be used for Embase\, PsycInfo and Emcare databases\n\nAudience : Alfred Hospital\, Caulfield Hospital\, Sandringham Hospital\, Burnet Institute; and Latrobe & Monash staff & students based @ Alfred Health campus \nA zoom link will be emailed shortly before the class
URL:https://www.alfredlibrary.org/event/medline-class-115/
LOCATION:Zoom\, Australia
CATEGORIES:Online
ATTACH;FMTTYPE=image/jpeg:https://www.alfredlibrary.org/wp-content/uploads/2020/08/Ovid_MEDLINE.jpg
ORGANIZER;CN="Lorena Romero":MAILTO:library@alfred.org.au
END:VEVENT
BEGIN:VEVENT
DTSTART;TZID=Australia/Melbourne:20241209T110000
DTEND;TZID=Australia/Melbourne:20241209T120000
DTSTAMP:20260425T112623
CREATED:20241127T225345Z
LAST-MODIFIED:20241127T225345Z
UID:10000588-1733742000-1733745600@www.alfredlibrary.org
SUMMARY:EMBASE CLASS
DESCRIPTION:Learn the basics of searching Embase via the OVID software platform.\nLearn how to use EMTREE subjects effectively and when/how to use text words\nLearn search tips that can also be used for PsycInfo and Emcare databases\n\nAudience : Alfred Hospital\, Caulfield Hospital\, Sandringham Hospital\, Burnet Institute; and Latrobe & Monash staff & students based @ Alfred Health campus \nA zoom link will be emailed shortly before the class
URL:https://www.alfredlibrary.org/event/embase-class-27/
LOCATION:Zoom\, Australia
CATEGORIES:Online
ATTACH;FMTTYPE=image/jpeg:https://www.alfredlibrary.org/wp-content/uploads/2020/08/EMBASE_on_Ovid.jpg
ORGANIZER;CN="Lorena Romero":MAILTO:library@alfred.org.au
END:VEVENT
BEGIN:VEVENT
DTSTART;TZID=Australia/Melbourne:20241210T110000
DTEND;TZID=Australia/Melbourne:20241210T120000
DTSTAMP:20260425T112623
CREATED:20241127T225213Z
LAST-MODIFIED:20241127T225213Z
UID:10000587-1733828400-1733832000@www.alfredlibrary.org
SUMMARY:MEDLINE CLASS
DESCRIPTION:Learn the basics of searching Medline via the OVID software platform.\nLearn how to use MeSH effectively and when/how to use text words\nLearn search tips that can also be used for Embase\, PsycInfo and Emcare databases\n\nAudience : Alfred Hospital\, Caulfield Hospital\, Sandringham Hospital\, Burnet Institute; and Latrobe & Monash staff & students based @ Alfred Health campus \nA zoom link will be emailed shortly before the class
URL:https://www.alfredlibrary.org/event/medline-class-116/
LOCATION:Zoom\, Australia
CATEGORIES:Online
ATTACH;FMTTYPE=image/jpeg:https://www.alfredlibrary.org/wp-content/uploads/2020/08/Ovid_MEDLINE.jpg
ORGANIZER;CN="Lorena Romero":MAILTO:library@alfred.org.au
END:VEVENT
BEGIN:VEVENT
DTSTART;TZID=Australia/Melbourne:20241212T110000
DTEND;TZID=Australia/Melbourne:20241212T120000
DTSTAMP:20260425T112623
CREATED:20241126T221118Z
LAST-MODIFIED:20241126T221118Z
UID:10000585-1734001200-1734004800@www.alfredlibrary.org
SUMMARY:E-Resources Class for Alfred Health/Burnet Staff
DESCRIPTION:Find out how you can access online books and online journals from home or work. \n\nTips on searching our Library Catalogue and understanding journal citations to help you find the article.\n\nAudience: Staff at Alfred Hospital\, Caulfield Hospital\, Sandringham Hospital\, Headspace\, CYMHS\, Burnet Institute. \nA zoom link will be emailed in the morning before the class \nNB: You must have an Alfred Health or Burnet login to access the library’s electronic resources.  \nFor other Monash Staff & students based at an Alfred Health campus- view our Monash E-Resources Video Series on YouTube.
URL:https://www.alfredlibrary.org/event/e-resources-class-for-alfred-health-burnet-staff-76/
LOCATION:Zoom\, Australia
CATEGORIES:Online
ATTACH;FMTTYPE=image/jpeg:https://www.alfredlibrary.org/wp-content/uploads/2020/08/Alfred.jpg
ORGANIZER;CN="Zahra Mohamed":MAILTO:library@alfred.org.au
END:VEVENT
BEGIN:VEVENT
DTSTART;TZID=Australia/Melbourne:20241217T110000
DTEND;TZID=Australia/Melbourne:20241217T130000
DTSTAMP:20260425T112623
CREATED:20241127T225520Z
LAST-MODIFIED:20241127T225520Z
UID:10000589-1734433200-1734440400@www.alfredlibrary.org
SUMMARY:ADVANCED SEARCHING CLASS
DESCRIPTION:PREREQUISITE: Prior attendance at OVID Medline or Embase class. \n\nLearn advanced search skills and handy tips for tricky or complex searches.\nLearn essential skills for creating systematic review searches\n\nAudience : Alfred Hospital\, Caulfield Hospital\, Sandringham Hospital\, Burnet Institute; and Latrobe & Monash staff & students based @ Alfred Health campus \nA zoom link will be emailed shortly before the class
URL:https://www.alfredlibrary.org/event/advanced-searching-class-79/
LOCATION:Zoom\, Australia
CATEGORIES:Online
ATTACH;FMTTYPE=image/png:https://www.alfredlibrary.org/wp-content/uploads/2020/08/Advanced.png
ORGANIZER;CN="Lorena Romero":MAILTO:library@alfred.org.au
END:VEVENT
END:VCALENDAR