BEGIN:VCALENDAR
VERSION:2.0
PRODID:-//Library Services (ACG) - ECPv6.15.20//NONSGML v1.0//EN
CALSCALE:GREGORIAN
METHOD:PUBLISH
X-WR-CALNAME:Library Services (ACG)
X-ORIGINAL-URL:https://www.alfredlibrary.org
X-WR-CALDESC:Events for Library Services (ACG)
REFRESH-INTERVAL;VALUE=DURATION:PT1H
X-Robots-Tag:noindex
X-PUBLISHED-TTL:PT1H
BEGIN:VTIMEZONE
TZID:Australia/Melbourne
BEGIN:STANDARD
TZOFFSETFROM:+1100
TZOFFSETTO:+1000
TZNAME:AEST
DTSTART:20240406T160000
END:STANDARD
BEGIN:DAYLIGHT
TZOFFSETFROM:+1000
TZOFFSETTO:+1100
TZNAME:AEDT
DTSTART:20241005T160000
END:DAYLIGHT
BEGIN:STANDARD
TZOFFSETFROM:+1100
TZOFFSETTO:+1000
TZNAME:AEST
DTSTART:20250405T160000
END:STANDARD
BEGIN:DAYLIGHT
TZOFFSETFROM:+1000
TZOFFSETTO:+1100
TZNAME:AEDT
DTSTART:20251004T160000
END:DAYLIGHT
BEGIN:STANDARD
TZOFFSETFROM:+1100
TZOFFSETTO:+1000
TZNAME:AEST
DTSTART:20260404T160000
END:STANDARD
BEGIN:DAYLIGHT
TZOFFSETFROM:+1000
TZOFFSETTO:+1100
TZNAME:AEDT
DTSTART:20261003T160000
END:DAYLIGHT
END:VTIMEZONE
BEGIN:VEVENT
DTSTART;TZID=Australia/Melbourne:20250313T110000
DTEND;TZID=Australia/Melbourne:20250313T120000
DTSTAMP:20260425T063053
CREATED:20250304T050621Z
LAST-MODIFIED:20250304T050621Z
UID:10000602-1741863600-1741867200@www.alfredlibrary.org
SUMMARY:MEDLINE CLASS
DESCRIPTION:Learn the basics of searching Medline via the OVID software platform.\nLearn how to use MeSH effectively and when/how to use text words\nLearn search tips that can also be used for Embase\, PsycInfo and Emcare databases\n\nAudience : Alfred Hospital\, Caulfield Hospital\, Sandringham Hospital\, Burnet Institute; and Latrobe & Monash staff & students based @ Alfred Health campus \nA zoom link will be emailed shortly before the class
URL:https://www.alfredlibrary.org/event/medline-class-120/
LOCATION:Zoom\, Australia
CATEGORIES:Online
ATTACH;FMTTYPE=image/jpeg:https://www.alfredlibrary.org/wp-content/uploads/2020/08/Ovid_MEDLINE.jpg
ORGANIZER;CN="Lorena Romero":MAILTO:library@alfred.org.au
END:VEVENT
BEGIN:VEVENT
DTSTART;TZID=Australia/Melbourne:20250318T110000
DTEND;TZID=Australia/Melbourne:20250318T120000
DTSTAMP:20260425T063053
CREATED:20250304T050947Z
LAST-MODIFIED:20250304T050947Z
UID:10000603-1742295600-1742299200@www.alfredlibrary.org
SUMMARY:EMBASE CLASS
DESCRIPTION:Learn the basics of searching Embase via the OVID software platform.\nLearn how to use EMTREE subjects effectively and when/how to use text words\nLearn search tips that can also be used for PsycInfo and Emcare databases\n\nAudience : Alfred Hospital\, Caulfield Hospital\, Sandringham Hospital\, Burnet Institute; and Latrobe & Monash staff & students based @ Alfred Health campus \nA zoom link will be emailed shortly before the class
URL:https://www.alfredlibrary.org/event/embase-class-29/
LOCATION:Zoom\, Australia
CATEGORIES:Online
ATTACH;FMTTYPE=image/jpeg:https://www.alfredlibrary.org/wp-content/uploads/2020/08/EMBASE_on_Ovid.jpg
ORGANIZER;CN="Lorena Romero":MAILTO:library@alfred.org.au
END:VEVENT
BEGIN:VEVENT
DTSTART;TZID=Australia/Melbourne:20250319T110000
DTEND;TZID=Australia/Melbourne:20250319T123000
DTSTAMP:20260425T063053
CREATED:20250214T013817Z
LAST-MODIFIED:20250214T013817Z
UID:10000600-1742382000-1742387400@www.alfredlibrary.org
SUMMARY:Zotero Reference Manager Class
DESCRIPTION:Zotero Reference Manager Class \nLearn to use the popular free referencing software Zotero (zotero.org) today – a good alternative to EndNote. \nTo download training notes click here. \nNOTE: a zoom link will be sent to participants on the morning of the class.
URL:https://www.alfredlibrary.org/event/zotero-reference-manager-class-7/
LOCATION:Zoom\, Australia
CATEGORIES:Online
ATTACH;FMTTYPE=image/jpeg:https://www.alfredlibrary.org/wp-content/uploads/2024/07/Zotero_new.jpg
ORGANIZER;CN="Adam Clark":MAILTO:library@alfred.org.au
END:VEVENT
BEGIN:VEVENT
DTSTART;TZID=Australia/Melbourne:20250320T133000
DTEND;TZID=Australia/Melbourne:20250320T143000
DTSTAMP:20260425T063053
CREATED:20250304T051214Z
LAST-MODIFIED:20250304T051214Z
UID:10000605-1742477400-1742481000@www.alfredlibrary.org
SUMMARY:CINAHL CLASS
DESCRIPTION:Learn the basics of searching Cinahl via the Ebscohost software platform.\nLearn how to use Cinahl subject headings effectively and when/how to use text words\nLearn the tricks required for Ebsco software\n\nAudience : Alfred Hospital\, Caulfield Hospital\, Sandringham Hospital\, Burnet Institute; and Latrobe & Monash staff & students based @ Alfred Health campus \n\nA zoom link will be emailed shortly before the class\nPlease note you must have a university login to access Cinahl
URL:https://www.alfredlibrary.org/event/cinahl-class-50/
LOCATION:Zoom\, Australia
CATEGORIES:Online
ATTACH;FMTTYPE=image/png:https://www.alfredlibrary.org/wp-content/uploads/2020/08/Cinahl.png
END:VEVENT
BEGIN:VEVENT
DTSTART;TZID=Australia/Melbourne:20250324T133000
DTEND;TZID=Australia/Melbourne:20250324T143000
DTSTAMP:20260425T063053
CREATED:20250304T050513Z
LAST-MODIFIED:20250304T050513Z
UID:10000601-1742823000-1742826600@www.alfredlibrary.org
SUMMARY:MEDLINE CLASS
DESCRIPTION:Learn the basics of searching Medline via the OVID software platform.\nLearn how to use MeSH effectively and when/how to use text words\nLearn search tips that can also be used for Embase\, PsycInfo and Emcare databases\n\nAudience : Alfred Hospital\, Caulfield Hospital\, Sandringham Hospital\, Burnet Institute; and Latrobe & Monash staff & students based @ Alfred Health campus \nA zoom link will be emailed shortly before the class
URL:https://www.alfredlibrary.org/event/medline-class-119/
LOCATION:Zoom\, Australia
CATEGORIES:Online
ATTACH;FMTTYPE=image/jpeg:https://www.alfredlibrary.org/wp-content/uploads/2020/08/Ovid_MEDLINE.jpg
ORGANIZER;CN="Lorena Romero":MAILTO:library@alfred.org.au
END:VEVENT
BEGIN:VEVENT
DTSTART;TZID=Australia/Melbourne:20250325T133000
DTEND;TZID=Australia/Melbourne:20250325T143000
DTSTAMP:20260425T063053
CREATED:20250304T051113Z
LAST-MODIFIED:20250304T051113Z
UID:10000604-1742909400-1742913000@www.alfredlibrary.org
SUMMARY:COCHRANE
DESCRIPTION:Learn the basics of searching the Cochrane Library via the Wiley software platform.\nDiscover the CDSR and CENTRAL databases\n\nAudience : Alfred Hospital\, Caulfield Hospital\, Sandringham Hospital\, Burnet Institute; and Latrobe & Monash staff & students based @ Alfred Health campus \nA zoom link will be emailed shortly before the class
URL:https://www.alfredlibrary.org/event/cochrane-24/
LOCATION:Zoom\, Australia
CATEGORIES:Online
ATTACH;FMTTYPE=image/png:https://www.alfredlibrary.org/wp-content/uploads/2021/01/Cochrane_Library_logo.png
ORGANIZER;CN="Lorena Romero":MAILTO:library@alfred.org.au
END:VEVENT
BEGIN:VEVENT
DTSTART;TZID=Australia/Melbourne:20250327T110000
DTEND;TZID=Australia/Melbourne:20250327T130000
DTSTAMP:20260425T063053
CREATED:20250304T051411Z
LAST-MODIFIED:20250304T051411Z
UID:10000606-1743073200-1743080400@www.alfredlibrary.org
SUMMARY:ADVANCED SEARCHING CLASS
DESCRIPTION:PREREQUISITE: Prior attendance at OVID Medline or Embase class. \n\nLearn advanced search skills and handy tips for tricky or complex searches.\nLearn essential skills for creating systematic review searches\n\nAudience : Alfred Hospital\, Caulfield Hospital\, Sandringham Hospital\, Burnet Institute; and Latrobe & Monash staff & students based @ Alfred Health campus \nA zoom link will be emailed shortly before the class
URL:https://www.alfredlibrary.org/event/advanced-searching-class-82/
LOCATION:Zoom\, Australia
CATEGORIES:Online
ATTACH;FMTTYPE=image/png:https://www.alfredlibrary.org/wp-content/uploads/2020/08/Advanced.png
ORGANIZER;CN="Lorena Romero":MAILTO:library@alfred.org.au
END:VEVENT
BEGIN:VEVENT
DTSTART;TZID=Australia/Melbourne:20250331T133000
DTEND;TZID=Australia/Melbourne:20250331T143000
DTSTAMP:20260425T063053
CREATED:20250304T051515Z
LAST-MODIFIED:20250304T051515Z
UID:10000607-1743427800-1743431400@www.alfredlibrary.org
SUMMARY:SCOPUS & WEB OF SCIENCE
DESCRIPTION:Learn search tips for the Scopus and Web of Science databases\nLearn how to convert your Medline or Embase searches to the Scopus or Web of Science formats – for SR searches\n\nPrerequisite: searching experience in Medline or Embase or Cinahl \n\nPlease note you must have a university login to access Scopus or Web of Science\nA zoom link will be emailed shortly before the class
URL:https://www.alfredlibrary.org/event/scopus-web-of-science-27/
LOCATION:Zoom\, Australia
CATEGORIES:Online
ATTACH;FMTTYPE=image/jpeg:https://www.alfredlibrary.org/wp-content/uploads/2022/03/scopus-web-of-science.jpg
ORGANIZER;CN="Lorena Romero":MAILTO:library@alfred.org.au
END:VEVENT
END:VCALENDAR