BEGIN:VCALENDAR
VERSION:2.0
PRODID:-//Library Services (ACG) - ECPv6.15.20//NONSGML v1.0//EN
CALSCALE:GREGORIAN
METHOD:PUBLISH
X-ORIGINAL-URL:https://www.alfredlibrary.org
X-WR-CALDESC:Events for Library Services (ACG)
REFRESH-INTERVAL;VALUE=DURATION:PT1H
X-Robots-Tag:noindex
X-PUBLISHED-TTL:PT1H
BEGIN:VTIMEZONE
TZID:Australia/Melbourne
BEGIN:STANDARD
TZOFFSETFROM:+1100
TZOFFSETTO:+1000
TZNAME:AEST
DTSTART:20250405T160000
END:STANDARD
BEGIN:DAYLIGHT
TZOFFSETFROM:+1000
TZOFFSETTO:+1100
TZNAME:AEDT
DTSTART:20251004T160000
END:DAYLIGHT
BEGIN:STANDARD
TZOFFSETFROM:+1100
TZOFFSETTO:+1000
TZNAME:AEST
DTSTART:20260404T160000
END:STANDARD
BEGIN:DAYLIGHT
TZOFFSETFROM:+1000
TZOFFSETTO:+1100
TZNAME:AEDT
DTSTART:20261003T160000
END:DAYLIGHT
BEGIN:STANDARD
TZOFFSETFROM:+1100
TZOFFSETTO:+1000
TZNAME:AEST
DTSTART:20270403T160000
END:STANDARD
BEGIN:DAYLIGHT
TZOFFSETFROM:+1000
TZOFFSETTO:+1100
TZNAME:AEDT
DTSTART:20271002T160000
END:DAYLIGHT
END:VTIMEZONE
BEGIN:VEVENT
DTSTART;TZID=Australia/Melbourne:20260514T133000
DTEND;TZID=Australia/Melbourne:20260514T140000
DTSTAMP:20260426T091823
CREATED:20260415T220312Z
LAST-MODIFIED:20260415T220312Z
UID:10000748-1778765400-1778767200@www.alfredlibrary.org
SUMMARY:Alfred Health Library - who\, what\, where?
DESCRIPTION:A brief (20 mins) introductory and informal session to hear about the library services\, instructional videos and how to find us. \nWhat you can do to access the online resources available at work and at home\, as well as borrow items. \nA good place to start your library journey and then continue by registering to an E-Resources Class. \nFor Alfred\, Burnet and Monash Staff & students based at an Alfred Health campus. \nNB: You must have an Alfred Health or Burnet login to access the library’s electronic resources. \nA zoom link will be emailed to you on the day of the event.
URL:https://www.alfredlibrary.org/event/alfred-health-library-who-what-where-32/
LOCATION:Zoom\, Australia
CATEGORIES:Online
ATTACH;FMTTYPE=image/png:https://www.alfredlibrary.org/wp-content/uploads/2023/04/Libby-on-White-Flipped.png
ORGANIZER;CN="Lucia Day":MAILTO:library@alfred.org.au
END:VEVENT
BEGIN:VEVENT
DTSTART;TZID=Australia/Melbourne:20260519T133000
DTEND;TZID=Australia/Melbourne:20260519T140000
DTSTAMP:20260426T091823
CREATED:20260415T220625Z
LAST-MODIFIED:20260415T220625Z
UID:10000749-1779197400-1779199200@www.alfredlibrary.org
SUMMARY:Alfred Health Library - who\, what\, where?
DESCRIPTION:A brief (20 mins) introductory and informal session to hear about the library services\, instructional videos and how to find us. \nWhat you can do to access the online resources available at work and at home\, as well as borrow items. \nA good place to start your library journey and then continue by registering to an E-Resources Class. \nFor Alfred\, Burnet and Monash Staff & students based at an Alfred Health campus. \nNB: You must have an Alfred Health or Burnet login to access the library’s electronic resources. \nA zoom link will be emailed to you on the day of the event.
URL:https://www.alfredlibrary.org/event/alfred-health-library-who-what-where-33/
LOCATION:Zoom\, Australia
CATEGORIES:Online
ATTACH;FMTTYPE=image/png:https://www.alfredlibrary.org/wp-content/uploads/2023/04/Libby-on-White-Flipped.png
ORGANIZER;CN="Lucia Day":MAILTO:library@alfred.org.au
END:VEVENT
END:VCALENDAR